Workbook

Sheet BWL (PO 2024)
A1: Modul | B1: Semester | C1: Datum | D1: Prüfer | E1: Gewicht | F1: Note | G1: ECTS
A2: Externes Rechnungswesen | E2: 0.5 | G2: =IF(Tabelle1[[#This Row],[Note]]="","",IF(Tabelle1[[#This Row],[Note]]=5,0,VLOOKUP(Tabelle1[[#This Row],[Modul]],'ECTS-Punkte'!$A$2:$B$81,2,FALSE))) | I2: =IF(Tabelle1[[#This Row],[Note]]="",0,Tabelle1[[#This Row],[Gewicht]]*Tabelle1[[#This Row],[Note]]*Tabelle1[[#This Row],[ECTS]]) -> 0 | J2: =IF(Tabelle1[[#This Row],[Note]]="",0,Tabelle1[[#This Row],[Gewicht]]*Tabelle1[[#This Row],[ECTS]]) -> 0
A3: Grundlagen der Mathematik | E3: 0.5 | G3: =IF(Tabelle1[[#This Row],[Note]]="","",IF(Tabelle1[[#This Row],[Note]]=5,0,VLOOKUP(Tabelle1[[#This Row],[Modul]],'ECTS-Punkte'!$A$2:$B$81,2,FALSE))) | I3: =IF(Tabelle1[[#This Row],[Note]]="",0,Tabelle1[[#This Row],[Gewicht]]*Tabelle1[[#This Row],[Note]]*Tabelle1[[#This Row],[ECTS]]) -> 0 | J3: =IF(Tabelle1[[#This Row],[Note]]="",0,Tabelle1[[#This Row],[Gewicht]]*Tabelle1[[#This Row],[ECTS]]) -> 0
A4: Investition und Finanzierung | E4: 0.5 | G4: =IF(Tabelle1[[#This Row],[Note]]="","",IF(Tabelle1[[#This Row],[Note]]=5,0,VLOOKUP(Tabelle1[[#This Row],[Modul]],'ECTS-Punkte'!$A$2:$B$81,2,FALSE))) | I4: =IF(Tabelle1[[#This Row],[Note]]="",0,Tabelle1[[#This Row],[Gewicht]]*Tabelle1[[#This Row],[Note]]*Tabelle1[[#This Row],[ECTS]]) -> 0 | J4: =IF(Tabelle1[[#This Row],[Note]]="",0,Tabelle1[[#This Row],[Gewicht]]*Tabelle1[[#This Row],[ECTS]]) -> 0
A5: Grundlagen der Statistik | E5: 0.5 | G5: =IF(Tabelle1[[#This Row],[Note]]="","",IF(Tabelle1[[#This Row],[Note]]=5,0,VLOOKUP(Tabelle1[[#This Row],[Modul]],'ECTS-Punkte'!$A$2:$B$81,2,FALSE))) | I5: =IF(Tabelle1[[#This Row],[Note]]="",0,Tabelle1[[#This Row],[Gewicht]]*Tabelle1[[#This Row],[Note]]*Tabelle1[[#This Row],[ECTS]]) -> 0 | J5: =IF(Tabelle1[[#This Row],[Note]]="",0,Tabelle1[[#This Row],[Gewicht]]*Tabelle1[[#This Row],[ECTS]]) -> 0
A6: Grundlagen der Volkswirtschaftslehre I: Mikroökonomie | E6: 0.5 | G6: =IF(Tabelle1[[#This Row],[Note]]="","",IF(Tabelle1[[#This Row],[Note]]=5,0,VLOOKUP(Tabelle1[[#This Row],[Modul]],'ECTS-Punkte'!$A$2:$B$81,2,FALSE))) | I6: =IF(Tabelle1[[#This Row],[Note]]="",0,Tabelle1[[#This Row],[Gewicht]]*Tabelle1[[#This Row],[Note]]*Tabelle1[[#This Row],[ECTS]]) -> 0 | J6: =IF(Tabelle1[[#This Row],[Note]]="",0,Tabelle1[[#This Row],[Gewicht]]*Tabelle1[[#This Row],[ECTS]]) -> 0
A7: Internes Rechnungswesen | E7: 0.5 | G7: =IF(Tabelle1[[#This Row],[Note]]="","",IF(Tabelle1[[#This Row],[Note]]=5,0,VLOOKUP(Tabelle1[[#This Row],[Modul]],'ECTS-Punkte'!$A$2:$B$81,2,FALSE))) | I7: =IF(Tabelle1[[#This Row],[Note]]="",0,Tabelle1[[#This Row],[Gewicht]]*Tabelle1[[#This Row],[Note]]*Tabelle1[[#This Row],[ECTS]]) -> 0 | J7: =IF(Tabelle1[[#This Row],[Note]]="",0,Tabelle1[[#This Row],[Gewicht]]*Tabelle1[[#This Row],[ECTS]]) -> 0
A8: Marketing-Management | E8: 0.5 | G8: =IF(Tabelle1[[#This Row],[Note]]="","",IF(Tabelle1[[#This Row],[Note]]=5,0,VLOOKUP(Tabelle1[[#This Row],[Modul]],'ECTS-Punkte'!$A$2:$B$81,2,FALSE))) | I8: =IF(Tabelle1[[#This Row],[Note]]="",0,Tabelle1[[#This Row],[Gewicht]]*Tabelle1[[#This Row],[Note]]*Tabelle1[[#This Row],[ECTS]]) -> 0 | J8: =IF(Tabelle1[[#This Row],[Note]]="",0,Tabelle1[[#This Row],[Gewicht]]*Tabelle1[[#This Row],[ECTS]]) -> 0
A9: Recht | E9: 0.5 | G9: =IF(Tabelle1[[#This Row],[Note]]="","",IF(Tabelle1[[#This Row],[Note]]=5,0,VLOOKUP(Tabelle1[[#This Row],[Modul]],'ECTS-Punkte'!$A$2:$B$81,2,FALSE))) | I9: =IF(Tabelle1[[#This Row],[Note]]="",0,Tabelle1[[#This Row],[Gewicht]]*Tabelle1[[#This Row],[Note]]*Tabelle1[[#This Row],[ECTS]]) -> 0 | J9: =IF(Tabelle1[[#This Row],[Note]]="",0,Tabelle1[[#This Row],[Gewicht]]*Tabelle1[[#This Row],[ECTS]]) -> 0
A10: Grundlagen der Volkswirtschaftslehre II: Makroökonomie | E10: 0.5 | G10: =IF(Tabelle1[[#This Row],[Note]]="","",IF(Tabelle1[[#This Row],[Note]]=5,0,VLOOKUP(Tabelle1[[#This Row],[Modul]],'ECTS-Punkte'!$A$2:$B$81,2,FALSE))) | I10: =IF(Tabelle1[[#This Row],[Note]]="",0,Tabelle1[[#This Row],[Gewicht]]*Tabelle1[[#This Row],[Note]]*Tabelle1[[#This Row],[ECTS]]) -> 0 | J10: =IF(Tabelle1[[#This Row],[Note]]="",0,Tabelle1[[#This Row],[Gewicht]]*Tabelle1[[#This Row],[ECTS]]) -> 0
A11: Organizational Behavior and International Management | E11: 0.5 | G11: =IF(Tabelle1[[#This Row],[Note]]="","",IF(Tabelle1[[#This Row],[Note]]=5,0,VLOOKUP(Tabelle1[[#This Row],[Modul]],'ECTS-Punkte'!$A$2:$B$81,2,FALSE))) | I11: =IF(Tabelle1[[#This Row],[Note]]="",0,Tabelle1[[#This Row],[Gewicht]]*Tabelle1[[#This Row],[Note]]*Tabelle1[[#This Row],[ECTS]]) -> 0 | J11: =IF(Tabelle1[[#This Row],[Note]]="",0,Tabelle1[[#This Row],[Gewicht]]*Tabelle1[[#This Row],[ECTS]]) -> 0
A12: Finance and Decisions | E12: 0.5 | G12: =IF(Tabelle1[[#This Row],[Note]]="","",IF(Tabelle1[[#This Row],[Note]]=5,0,VLOOKUP(Tabelle1[[#This Row],[Modul]],'ECTS-Punkte'!$A$2:$B$81,2,FALSE))) | I12: =IF(Tabelle1[[#This Row],[Note]]="",0,Tabelle1[[#This Row],[Gewicht]]*Tabelle1[[#This Row],[Note]]*Tabelle1[[#This Row],[ECTS]]) -> 0 | J12: =IF(Tabelle1[[#This Row],[Note]]="",0,Tabelle1[[#This Row],[Gewicht]]*Tabelle1[[#This Row],[ECTS]]) -> 0
A13: Wirtschaftsinformatik | E13: 0.5 | G13: =IF(Tabelle1[[#This Row],[Note]]="","",IF(Tabelle1[[#This Row],[Note]]=5,0,VLOOKUP(Tabelle1[[#This Row],[Modul]],'ECTS-Punkte'!$A$2:$B$81,2,FALSE))) | I13: =IF(Tabelle1[[#This Row],[Note]]="",0,Tabelle1[[#This Row],[Gewicht]]*Tabelle1[[#This Row],[Note]]*Tabelle1[[#This Row],[ECTS]]) -> 0 | J13: =IF(Tabelle1[[#This Row],[Note]]="",0,Tabelle1[[#This Row],[Gewicht]]*Tabelle1[[#This Row],[ECTS]]) -> 0
... A31: Abschlussmodul | E31: 1 | G31: =IF(Tabelle1[[#This Row],[Note]]="","",IF(Tabelle1[[#This Row],[Note]]=5,0,VLOOKUP(Tabelle1[[#This Row],[Modul]],'ECTS-Punkte'!$A$2:$B$81,2,FALSE))) | I31: =IF(Tabelle1[[#This Row],[Note]]="",0,Tabelle1[[#This Row],[Gewicht]]*Tabelle1[[#This Row],[Note]]*Tabelle1[[#This Row],[ECTS]]) -> 0 | J31: =IF(Tabelle1[[#This Row],[Note]]="",0,Tabelle1[[#This Row],[Gewicht]]*Tabelle1[[#This Row],[ECTS]]) -> 0
A32: Gesamtnote | F32: =TRUNC(I32/J32,2) -> #DIV/0! | G32: =SUMIF(G2:G31,">0") -> 0 | I32: =SUM(I2:I31) -> 0 | J32: =SUM(J2:J31) -> 0
A34: Wasti e.V. übernimmt keine Haftung für ggf. falsche Berechnungen!

Sheet Auwahllisten
A1: Spezialisierung 1 (1/3) | B1: Spezialisierung 1 (2/3) | C1: Spezialisierung 1 (3/3) | D1: Spezialisierung 2 (1/3) | E1: Spezialisierung 2 (2/3) | F1: Spezialisierung 2 (3/3) | G1: Wahlpool 1 | H1: Wahlpool 2 | I1: Wahlpool 3 | J1: Wahlpool 4 | K1: Wahlpool 5 | L1: Wahlpool 6 | M1: Wahlpool 7
A2: Accounting and Controlling I | B2: Accounting and Controlling II | C2: Accounting and Controlling III | D2: Accounting and Controlling I | E2: Accounting and Controlling II | F2: Accounting and Controlling III | G2: Digitale Transformation | H2: Digitale Transformation | I2: Digitale Transformation | J2: Digitale Transformation | K2: Digitale Transformation | L2: Digitale Transformation | M2: Digitale Transformation
A3: Business Taxation I | B3: Business Taxation II | C3: Business Taxation III | D3: Business Taxation I | E3: Business Taxation II | F3: Business Taxation III | G3: Legitimacy and Responsibility | H3: Legitimacy and Responsibility | I3: Legitimacy and Responsibility | J3: Legitimacy and Responsibility | K3: Legitimacy and Responsibility | L3: Legitimacy and Responsibility | M3: Legitimacy and Responsibility
A4: Digital Business I | B4: Digital Business II | C4: Digital Business III | D4: Digital Business I | E4: Digital Business II | F4: Digital Business III | G4: Kompetenzbereiche der Betriebswirtschaftslehre I | H4: Kompetenzbereiche der Betriebswirtschaftslehre I | I4: Kompetenzbereiche der Betriebswirtschaftslehre I | J4: Kompetenzbereiche der Betriebswirtschaftslehre I | K4: Kompetenzbereiche der Betriebswirtschaftslehre I | L4: Kompetenzbereiche der Betriebswirtschaftslehre I | M4: Kompetenzbereiche der Betriebswirtschaftslehre I
A5: Finance I | B5: Finance II | C5: Finance III | D5: Finance I | E5: Finance II | F5: Finance III | G5: Kompetenzbereiche der Betriebswirtschaftslehre II | H5: Kompetenzbereiche der Betriebswirtschaftslehre II | I5: Kompetenzbereiche der Betriebswirtschaftslehre II | J5: Kompetenzbereiche der Betriebswirtschaftslehre II | K5: Kompetenzbereiche der Betriebswirtschaftslehre II | L5: Kompetenzbereiche der Betriebswirtschaftslehre II | M5: Kompetenzbereiche der Betriebswirtschaftslehre II
A6: Marketing, Management, and Innovation I | B6: Marketing, Management, and Innovation II | C6: Marketing, Management, and Innovation III | D6: Marketing, Management, and Innovation I | E6: Marketing, Management, and Innovation II | F6: Marketing, Management, and Innovation III | G6: Kompetenzbereiche der Betriebswirtschaftslehre III | H6: Kompetenzbereiche der Betriebswirtschaftslehre III | I6: Kompetenzbereiche der Betriebswirtschaftslehre III | J6: Kompetenzbereiche der Betriebswirtschaftslehre III | K6: Kompetenzbereiche der Betriebswirtschaftslehre III | L6: Kompetenzbereiche der Betriebswirtschaftslehre III | M6: Kompetenzbereiche der Betriebswirtschaftslehre III
A7: Leadership, Human Resources, and International Management I | B7: Leadership, Human Resources, and International Management II | C7: Leadership, Human Resources, and International Management III | D7: Leadership, Human Resources, and International Management I | E7: Leadership, Human Resources, and International Management II | F7: Leadership, Human Resources, and International Management III | G7: Vertiefung Kompetenzbereiche der Betriebswirtschaftslehre I | H7: Vertiefung Kompetenzbereiche der Betriebswirtschaftslehre I | I7: Vertiefung Kompetenzbereiche der Betriebswirtschaftslehre I | J7: Vertiefung Kompetenzbereiche der Betriebswirtschaftslehre I | K7: Vertiefung Kompetenzbereiche der Betriebswirtschaftslehre I | L7: Vertiefung Kompetenzbereiche der Betriebswirtschaftslehre I | M7: Vertiefung Kompetenzbereiche der Betriebswirtschaftslehre I
A8: Strategic Management I | B8: Strategic Management II | C8: Strategic Management III | D8: Strategic Management I | E8: Strategic Management II | F8: Strategic Management III | G8: Vertiefung Kompetenzbereiche der Betriebswirtschaftslehre II | H8: Vertiefung Kompetenzbereiche der Betriebswirtschaftslehre II | I8: Vertiefung Kompetenzbereiche der Betriebswirtschaftslehre II | J8: Vertiefung Kompetenzbereiche der Betriebswirtschaftslehre II | K8: Vertiefung Kompetenzbereiche der Betriebswirtschaftslehre II | L8: Vertiefung Kompetenzbereiche der Betriebswirtschaftslehre II | M8: Vertiefung Kompetenzbereiche der Betriebswirtschaftslehre II
A9: Risk Management and Insurance I | B9: Risk Management and Insurance II | C9: Risk Management and Insurance III | D9: Risk Management and Insurance I | E9: Risk Management and Insurance II | F9: Risk Management and Insurance III | G9: Vertiefung Kompetenzbereiche der Betriebswirtschaftslehre III | H9: Vertiefung Kompetenzbereiche der Betriebswirtschaftslehre III | I9: Vertiefung Kompetenzbereiche der Betriebswirtschaftslehre III | J9: Vertiefung Kompetenzbereiche der Betriebswirtschaftslehre III | K9: Vertiefung Kompetenzbereiche der Betriebswirtschaftslehre III | L9: Vertiefung Kompetenzbereiche der Betriebswirtschaftslehre III | M9: Vertiefung Kompetenzbereiche der Betriebswirtschaftslehre III
G10: Anwendungsorientierte Vertiefung betriebswirtschaftlicher Kompetenzbereiche I | H10: Anwendungsorientierte Vertiefung betriebswirtschaftlicher Kompetenzbereiche I | I10: Anwendungsorientierte Vertiefung betriebswirtschaftlicher Kompetenzbereiche I | J10: Anwendungsorientierte Vertiefung betriebswirtschaftlicher Kompetenzbereiche I | K10: Anwendungsorientierte Vertiefung betriebswirtschaftlicher Kompetenzbereiche I | L10: Anwendungsorientierte Vertiefung betriebswirtschaftlicher Kompetenzbereiche I | M10: Anwendungsorientierte Vertiefung betriebswirtschaftlicher Kompetenzbereiche I
G11: Anwendungsorientierte Vertiefung betriebswirtschaftlicher Kompetenzbereiche II | H11: Anwendungsorientierte Vertiefung betriebswirtschaftlicher Kompetenzbereiche II | I11: Anwendungsorientierte Vertiefung betriebswirtschaftlicher Kompetenzbereiche II | J11: Anwendungsorientierte Vertiefung betriebswirtschaftlicher Kompetenzbereiche II | K11: Anwendungsorientierte Vertiefung betriebswirtschaftlicher Kompetenzbereiche II | L11: Anwendungsorientierte Vertiefung betriebswirtschaftlicher Kompetenzbereiche II | M11: Anwendungsorientierte Vertiefung betriebswirtschaftlicher Kompetenzbereiche II
G12: Anwendungsorientierte Vertiefung betriebswirtschaftlicher Kompetenzbereiche III | H12: Anwendungsorientierte Vertiefung betriebswirtschaftlicher Kompetenzbereiche III | I12: Anwendungsorientierte Vertiefung betriebswirtschaftlicher Kompetenzbereiche III | J12: Anwendungsorientierte Vertiefung betriebswirtschaftlicher Kompetenzbereiche III | K12: Anwendungsorientierte Vertiefung betriebswirtschaftlicher Kompetenzbereiche III | L12: Anwendungsorientierte Vertiefung betriebswirtschaftlicher Kompetenzbereiche III | M12: Anwendungsorientierte Vertiefung betriebswirtschaftlicher Kompetenzbereiche III
G13: Anwendungsorientierte Vertiefung betriebswirtschaftlicher Kompetenzbereiche IV | H13: Anwendungsorientierte Vertiefung betriebswirtschaftlicher Kompetenzbereiche IV | I13: Anwendungsorientierte Vertiefung betriebswirtschaftlicher Kompetenzbereiche IV | J13: Anwendungsorientierte Vertiefung betriebswirtschaftlicher Kompetenzbereiche IV | K13: Anwendungsorientierte Vertiefung betriebswirtschaftlicher Kompetenzbereiche IV | L13: Anwendungsorientierte Vertiefung betriebswirtschaftlicher Kompetenzbereiche IV | M13: Anwendungsorientierte Vertiefung betriebswirtschaftlicher Kompetenzbereiche IV
G14: Anwendungsorientierte Vertiefung betriebswirtschaftlicher Kompetenzbereiche V | H14: Anwendungsorientierte Vertiefung betriebswirtschaftlicher Kompetenzbereiche V | I14: Anwendungsorientierte Vertiefung betriebswirtschaftlicher Kompetenzbereiche V | J14: Anwendungsorientierte Vertiefung betriebswirtschaftlicher Kompetenzbereiche V | K14: Anwendungsorientierte Vertiefung betriebswirtschaftlicher Kompetenzbereiche V | L14: Anwendungsorientierte Vertiefung betriebswirtschaftlicher Kompetenzbereiche V | M14: Anwendungsorientierte Vertiefung betriebswirtschaftlicher Kompetenzbereiche V
G15: Anwendungsorientierte Vertiefung betriebswirtschaftlicher Kompetenzbereiche VI | H15: Anwendungsorientierte Vertiefung betriebswirtschaftlicher Kompetenzbereiche VI | I15: Anwendungsorientierte Vertiefung betriebswirtschaftlicher Kompetenzbereiche VI | J15: Anwendungsorientierte Vertiefung betriebswirtschaftlicher Kompetenzbereiche VI | K15: Anwendungsorientierte Vertiefung betriebswirtschaftlicher Kompetenzbereiche VI | L15: Anwendungsorientierte Vertiefung betriebswirtschaftlicher Kompetenzbereiche VI | M15: Anwendungsorientierte Vertiefung betriebswirtschaftlicher Kompetenzbereiche VI
G16: Praxis des Managements | H16: Praxis des Managements | I16: Praxis des Managements | J16: Praxis des Managements | K16: Praxis des Managements | L16: Praxis des Managements | M16: Praxis des Managements
G17: Angewandte Theorie des Managements I | H17: Angewandte Theorie des Managements I | I17: Angewandte Theorie des Managements I | J17: Angewandte Theorie des Managements I | K17: Angewandte Theorie des Managements I | L17: Angewandte Theorie des Managements I | M17: Angewandte Theorie des Managements I
G18: Angewandte Theorie des Managements II | H18: Angewandte Theorie des Managements II | I18: Angewandte Theorie des Managements II | J18: Angewandte Theorie des Managements II | K18: Angewandte Theorie des Managements II | L18: Angewandte Theorie des Managements II | M18: Angewandte Theorie des Managements II
G19: Perspektiven und Profession der wirtschaftswissenschaftlichen Praxis I | H19: Perspektiven und Profession der wirtschaftswissenschaftlichen Praxis I | I19: Perspektiven und Profession der wirtschaftswissenschaftlichen Praxis I | J19: Perspektiven und Profession der wirtschaftswissenschaftlichen Praxis I | K19: Perspektiven und Profession der wirtschaftswissenschaftlichen Praxis I | L19: Perspektiven und Profession der wirtschaftswissenschaftlichen Praxis I | M19: Perspektiven und Profession der wirtschaftswissenschaftlichen Praxis I
G20: Perspektiven und Profession der wirtschaftswissenschaftlichen Praxis II | H20: Perspektiven und Profession der wirtschaftswissenschaftlichen Praxis II | I20: Perspektiven und Profession der wirtschaftswissenschaftlichen Praxis II | J20: Perspektiven und Profession der wirtschaftswissenschaftlichen Praxis II | K20: Perspektiven und Profession der wirtschaftswissenschaftlichen Praxis II | L20: Perspektiven und Profession der wirtschaftswissenschaftlichen Praxis II | M20: Perspektiven und Profession der wirtschaftswissenschaftlichen Praxis II
G21: Einführung in die Informatik: Programmierung und Softwareentwicklung | H21: Einführung in die Informatik: Programmierung und Softwareentwicklung | I21: Einführung in die Informatik: Programmierung und Softwareentwicklung | J21: Einführung in die Informatik: Programmierung und Softwareentwicklung | K21: Einführung in die Informatik: Programmierung und Softwareentwicklung | L21: Einführung in die Informatik: Programmierung und Softwareentwicklung | M21: Einführung in die Informatik: Programmierung und Softwareentwicklung
... G40: Vertiefung Wirtschaftspsychologie | H40: Vertiefung Wirtschaftspsychologie | I40: Vertiefung Wirtschaftspsychologie | J40: Vertiefung Wirtschaftspsychologie | K40: Vertiefung Wirtschaftspsychologie | L40: Vertiefung Wirtschaftspsychologie | M40: Vertiefung Wirtschaftspsychologie

Sheet ECTS-Punkte
A1: Modul | B1: ECTS-Punkte | C1: Notenskala
A2: Externes Rechnungswesen | B2: 6 | C2: 1
A3: Grundlagen der Mathematik | B3: 6 | C3: 1.3
A4: Investition und Finanzierung | B4: 6 | C4: 1.7
A5: Grundlagen der Statistik | B5: 6 | C5: 2
A6: Grundlagen der Volkswirtschaftslehre I: Mikroökonomie | B6: 6 | C6: 2.3
A7: Internes Rechnungswesen | B7: 6 | C7: 2.7
A8: Marketing-Management | B8: 6 | C8: 3
A9: Recht | B9: 6 | C9: 3.3
A10: Grundlagen der Volkswirtschaftslehre II: Makroökonomie | B10: 6 | C10: 3.7
A11: Organizational Behavior and International Management | B11: 6 | C11: 4
A12: Finance and Decisions | B12: 6 | C12: 5
A13: Wirtschaftsinformatik | B13: 6
A14: Introduction to Econometrics | B14: 6
A15: Organization and Strategy | B15: 6
A16: Business Modelling | B16: 12
A17: Betriebswirtschaftliche Forschung (Hauptseminar) | B17: 6
A18: Accounting and Controlling I | B18: 6
A19: Business Taxation I | B19: 6
A20: Digital Business I | B20: 6
A21: Finance I | B21: 6
A22: Marketing, Management, and Innovation I | B22: 6
A23: Leadership, Human Resources, and International Management I | B23: 6
A24: Strategic Management I | B24: 6
... A81: Abschlussmodul | B81: 18
