Workbook

Sheet WiPäd II (PO 2024)
A1: Wahlfach:
A2: <NF wählen>
A3: Modul | B3: Semester | C3: Datum | D3: Prüfer | E3: Gewicht | F3: Note | G3: ECTS
A4: Externes Rechnungswesen | E4: 0.5 | G4: =IF(Tabelle1[[#This Row],[Note]]="","",IF(Tabelle1[[#This Row],[Note]]=5,0,VLOOKUP(Tabelle1[[#This Row],[Modul]],'ECTS-Punkte'!$A$2:$B$81,2,FALSE))) | I4: =IF(Tabelle1[[#This Row],[Note]]="",0,Tabelle1[[#This Row],[Gewicht]]*Tabelle1[[#This Row],[Note]]*Tabelle1[[#This Row],[ECTS]]) -> 0 | J4: =IF(Tabelle1[[#This Row],[Note]]="",0,Tabelle1[[#This Row],[Gewicht]]*Tabelle1[[#This Row],[ECTS]]) -> 0
A5: Grundlagen der Mathematik | E5: 0.5 | G5: =IF(Tabelle1[[#This Row],[Note]]="","",IF(Tabelle1[[#This Row],[Note]]=5,0,VLOOKUP(Tabelle1[[#This Row],[Modul]],'ECTS-Punkte'!$A$2:$B$81,2,FALSE))) | I5: =IF(Tabelle1[[#This Row],[Note]]="",0,Tabelle1[[#This Row],[Gewicht]]*Tabelle1[[#This Row],[Note]]*Tabelle1[[#This Row],[ECTS]]) -> 0 | J5: =IF(Tabelle1[[#This Row],[Note]]="",0,Tabelle1[[#This Row],[Gewicht]]*Tabelle1[[#This Row],[ECTS]]) -> 0
A6: Human Resource Education and Management I | E6: 1 | G6: =IF(Tabelle1[[#This Row],[Note]]="","",IF(Tabelle1[[#This Row],[Note]]=5,0,VLOOKUP(Tabelle1[[#This Row],[Modul]],'ECTS-Punkte'!$A$2:$B$81,2,FALSE))) | I6: =IF(Tabelle1[[#This Row],[Note]]="",0,Tabelle1[[#This Row],[Gewicht]]*Tabelle1[[#This Row],[Note]]*Tabelle1[[#This Row],[ECTS]]) -> 0 | J6: =IF(Tabelle1[[#This Row],[Note]]="",0,Tabelle1[[#This Row],[Gewicht]]*Tabelle1[[#This Row],[ECTS]]) -> 0
A7: Grundlagen der Statistik | E7: 0.5 | G7: =IF(Tabelle1[[#This Row],[Note]]="","",IF(Tabelle1[[#This Row],[Note]]=5,0,VLOOKUP(Tabelle1[[#This Row],[Modul]],'ECTS-Punkte'!$A$2:$B$81,2,FALSE))) | I7: =IF(Tabelle1[[#This Row],[Note]]="",0,Tabelle1[[#This Row],[Gewicht]]*Tabelle1[[#This Row],[Note]]*Tabelle1[[#This Row],[ECTS]]) -> 0 | J7: =IF(Tabelle1[[#This Row],[Note]]="",0,Tabelle1[[#This Row],[Gewicht]]*Tabelle1[[#This Row],[ECTS]]) -> 0
A8: Grundlagen der Volkswirtschaftslehre I: Mikroökonomie | E8: 0.5 | G8: =IF(Tabelle1[[#This Row],[Note]]="","",IF(Tabelle1[[#This Row],[Note]]=5,0,VLOOKUP(Tabelle1[[#This Row],[Modul]],'ECTS-Punkte'!$A$2:$B$81,2,FALSE))) | I8: =IF(Tabelle1[[#This Row],[Note]]="",0,Tabelle1[[#This Row],[Gewicht]]*Tabelle1[[#This Row],[Note]]*Tabelle1[[#This Row],[ECTS]]) -> 0 | J8: =IF(Tabelle1[[#This Row],[Note]]="",0,Tabelle1[[#This Row],[Gewicht]]*Tabelle1[[#This Row],[ECTS]]) -> 0
A9: Internes Rechnungswesen | E9: 0.5 | G9: =IF(Tabelle1[[#This Row],[Note]]="","",IF(Tabelle1[[#This Row],[Note]]=5,0,VLOOKUP(Tabelle1[[#This Row],[Modul]],'ECTS-Punkte'!$A$2:$B$81,2,FALSE))) | I9: =IF(Tabelle1[[#This Row],[Note]]="",0,Tabelle1[[#This Row],[Gewicht]]*Tabelle1[[#This Row],[Note]]*Tabelle1[[#This Row],[ECTS]]) -> 0 | J9: =IF(Tabelle1[[#This Row],[Note]]="",0,Tabelle1[[#This Row],[Gewicht]]*Tabelle1[[#This Row],[ECTS]]) -> 0
A10: Marketing-Management | E10: 0.5 | G10: =IF(Tabelle1[[#This Row],[Note]]="","",IF(Tabelle1[[#This Row],[Note]]=5,0,VLOOKUP(Tabelle1[[#This Row],[Modul]],'ECTS-Punkte'!$A$2:$B$81,2,FALSE))) | I10: =IF(Tabelle1[[#This Row],[Note]]="",0,Tabelle1[[#This Row],[Gewicht]]*Tabelle1[[#This Row],[Note]]*Tabelle1[[#This Row],[ECTS]]) -> 0 | J10: =IF(Tabelle1[[#This Row],[Note]]="",0,Tabelle1[[#This Row],[Gewicht]]*Tabelle1[[#This Row],[ECTS]]) -> 0
A11: Human Resource Education and Management II | E11: 1 | G11: =IF(Tabelle1[[#This Row],[Note]]="","",IF(Tabelle1[[#This Row],[Note]]=5,0,VLOOKUP(Tabelle1[[#This Row],[Modul]],'ECTS-Punkte'!$A$2:$B$81,2,FALSE))) | I11: =IF(Tabelle1[[#This Row],[Note]]="",0,Tabelle1[[#This Row],[Gewicht]]*Tabelle1[[#This Row],[Note]]*Tabelle1[[#This Row],[ECTS]]) -> 0 | J11: =IF(Tabelle1[[#This Row],[Note]]="",0,Tabelle1[[#This Row],[Gewicht]]*Tabelle1[[#This Row],[ECTS]]) -> 0
A12: Recht | E12: 0.5 | G12: =IF(Tabelle1[[#This Row],[Note]]="","",IF(Tabelle1[[#This Row],[Note]]=5,0,VLOOKUP(Tabelle1[[#This Row],[Modul]],'ECTS-Punkte'!$A$2:$B$81,2,FALSE))) | I12: =IF(Tabelle1[[#This Row],[Note]]="",0,Tabelle1[[#This Row],[Gewicht]]*Tabelle1[[#This Row],[Note]]*Tabelle1[[#This Row],[ECTS]]) -> 0 | J12: =IF(Tabelle1[[#This Row],[Note]]="",0,Tabelle1[[#This Row],[Gewicht]]*Tabelle1[[#This Row],[ECTS]]) -> 0
A13: Grundlagen der Volkswirtschaftslehre II: Makroökonomie | E13: 0.5 | G13: =IF(Tabelle1[[#This Row],[Note]]="","",IF(Tabelle1[[#This Row],[Note]]=5,0,VLOOKUP(Tabelle1[[#This Row],[Modul]],'ECTS-Punkte'!$A$2:$B$81,2,FALSE))) | I13: =IF(Tabelle1[[#This Row],[Note]]="",0,Tabelle1[[#This Row],[Gewicht]]*Tabelle1[[#This Row],[Note]]*Tabelle1[[#This Row],[ECTS]]) -> 0 | J13: =IF(Tabelle1[[#This Row],[Note]]="",0,Tabelle1[[#This Row],[Gewicht]]*Tabelle1[[#This Row],[ECTS]]) -> 0
A14: Investition und Finanzierung | E14: 0.5 | G14: =IF(Tabelle1[[#This Row],[Note]]="","",IF(Tabelle1[[#This Row],[Note]]=5,0,VLOOKUP(Tabelle1[[#This Row],[Modul]],'ECTS-Punkte'!$A$2:$B$81,2,FALSE))) | I14: =IF(Tabelle1[[#This Row],[Note]]="",0,Tabelle1[[#This Row],[Gewicht]]*Tabelle1[[#This Row],[Note]]*Tabelle1[[#This Row],[ECTS]]) -> 0 | J14: =IF(Tabelle1[[#This Row],[Note]]="",0,Tabelle1[[#This Row],[Gewicht]]*Tabelle1[[#This Row],[ECTS]]) -> 0
A15: Wirtschaftsinformatik | E15: 0.5 | G15: =IF(Tabelle1[[#This Row],[Note]]="","",IF(Tabelle1[[#This Row],[Note]]=5,0,VLOOKUP(Tabelle1[[#This Row],[Modul]],'ECTS-Punkte'!$A$2:$B$81,2,FALSE))) | I15: =IF(Tabelle1[[#This Row],[Note]]="",0,Tabelle1[[#This Row],[Gewicht]]*Tabelle1[[#This Row],[Note]]*Tabelle1[[#This Row],[ECTS]]) -> 0 | J15: =IF(Tabelle1[[#This Row],[Note]]="",0,Tabelle1[[#This Row],[Gewicht]]*Tabelle1[[#This Row],[ECTS]]) -> 0
... A23: Perspektiven der Wirtschaftspädagogik | E23: 1 | G23: =IF(Tabelle1[[#This Row],[Note]]="","",IF(Tabelle1[[#This Row],[Note]]=5,0,VLOOKUP(Tabelle1[[#This Row],[Modul]],'ECTS-Punkte'!$A$2:$B$81,2,FALSE))) | I23: =IF(Tabelle1[[#This Row],[Note]]="",0,Tabelle1[[#This Row],[Gewicht]]*Tabelle1[[#This Row],[Note]]*Tabelle1[[#This Row],[ECTS]]) -> 0 | J23: =IF(Tabelle1[[#This Row],[Note]]="",0,Tabelle1[[#This Row],[Gewicht]]*Tabelle1[[#This Row],[ECTS]]) -> 0
A24: =_xlfn.XLOOKUP($A$2,Auswahllisten!$A$1:$J$1,Auswahllisten!$A2:$J2) -> Platzhalter NF 1 | E24: 1 | G24: =IF(Tabelle1[[#This Row],[Note]]="","",IF(Tabelle1[[#This Row],[Note]]=5,0,VLOOKUP(Tabelle1[[#This Row],[Modul]],'ECTS-Punkte'!$A$2:$B$81,2,FALSE))) | I24: =IF(Tabelle1[[#This Row],[Note]]="",0,Tabelle1[[#This Row],[Gewicht]]*Tabelle1[[#This Row],[Note]]*Tabelle1[[#This Row],[ECTS]]) -> 0 | J24: =IF(Tabelle1[[#This Row],[Note]]="",0,Tabelle1[[#This Row],[Gewicht]]*Tabelle1[[#This Row],[ECTS]]) -> 0
A25: =_xlfn.XLOOKUP($A$2,Auswahllisten!$A$1:$J$1,Auswahllisten!$A3:$J3) -> Platzhalter NF 2 | E25: 1 | G25: =IF(Tabelle1[[#This Row],[Note]]="","",IF(Tabelle1[[#This Row],[Note]]=5,0,VLOOKUP(Tabelle1[[#This Row],[Modul]],'ECTS-Punkte'!$A$2:$B$81,2,FALSE))) | I25: =IF(Tabelle1[[#This Row],[Note]]="",0,Tabelle1[[#This Row],[Gewicht]]*Tabelle1[[#This Row],[Note]]*Tabelle1[[#This Row],[ECTS]]) -> 0 | J25: =IF(Tabelle1[[#This Row],[Note]]="",0,Tabelle1[[#This Row],[Gewicht]]*Tabelle1[[#This Row],[ECTS]]) -> 0
A26: =_xlfn.XLOOKUP($A$2,Auswahllisten!$A$1:$J$1,Auswahllisten!$A4:$J4) -> Platzhalter NF 3 | E26: 1 | G26: =IF(Tabelle1[[#This Row],[Note]]="","",IF(Tabelle1[[#This Row],[Note]]=5,0,VLOOKUP(Tabelle1[[#This Row],[Modul]],'ECTS-Punkte'!$A$2:$B$81,2,FALSE))) | I26: =IF(Tabelle1[[#This Row],[Note]]="",0,Tabelle1[[#This Row],[Gewicht]]*Tabelle1[[#This Row],[Note]]*Tabelle1[[#This Row],[ECTS]]) -> 0 | J26: =IF(Tabelle1[[#This Row],[Note]]="",0,Tabelle1[[#This Row],[Gewicht]]*Tabelle1[[#This Row],[ECTS]]) -> 0
A27: =_xlfn.XLOOKUP($A$2,Auswahllisten!$A$1:$J$1,Auswahllisten!$A5:$J5) -> Platzhalter NF 4 | E27: 1 | G27: =IF(Tabelle1[[#This Row],[Note]]="","",IF(Tabelle1[[#This Row],[Note]]=5,0,VLOOKUP(Tabelle1[[#This Row],[Modul]],'ECTS-Punkte'!$A$2:$B$81,2,FALSE))) | I27: =IF(Tabelle1[[#This Row],[Note]]="",0,Tabelle1[[#This Row],[Gewicht]]*Tabelle1[[#This Row],[Note]]*Tabelle1[[#This Row],[ECTS]]) -> 0 | J27: =IF(Tabelle1[[#This Row],[Note]]="",0,Tabelle1[[#This Row],[Gewicht]]*Tabelle1[[#This Row],[ECTS]]) -> 0
A28: =_xlfn.XLOOKUP($A$2,Auswahllisten!$A$1:$J$1,Auswahllisten!$A6:$J6) -> Platzhalter NF 5 | E28: 1 | G28: =IF(Tabelle1[[#This Row],[Note]]="","",IF(Tabelle1[[#This Row],[Note]]=5,0,VLOOKUP(Tabelle1[[#This Row],[Modul]],'ECTS-Punkte'!$A$2:$B$81,2,FALSE))) | I28: =IF(Tabelle1[[#This Row],[Note]]="",0,Tabelle1[[#This Row],[Gewicht]]*Tabelle1[[#This Row],[Note]]*Tabelle1[[#This Row],[ECTS]]) -> 0 | J28: =IF(Tabelle1[[#This Row],[Note]]="",0,Tabelle1[[#This Row],[Gewicht]]*Tabelle1[[#This Row],[ECTS]]) -> 0
A29: =_xlfn.XLOOKUP($A$2,Auswahllisten!$A$1:$J$1,Auswahllisten!$A7:$J7) -> Platzhalter NF 6 | E29: 1 | G29: =IF(Tabelle1[[#This Row],[Note]]="","",IF(Tabelle1[[#This Row],[Note]]=5,0,VLOOKUP(Tabelle1[[#This Row],[Modul]],'ECTS-Punkte'!$A$2:$B$81,2,FALSE))) | I29: =IF(Tabelle1[[#This Row],[Note]]="",0,Tabelle1[[#This Row],[Gewicht]]*Tabelle1[[#This Row],[Note]]*Tabelle1[[#This Row],[ECTS]]) -> 0 | J29: =IF(Tabelle1[[#This Row],[Note]]="",0,Tabelle1[[#This Row],[Gewicht]]*Tabelle1[[#This Row],[ECTS]]) -> 0
A30: =_xlfn.XLOOKUP($A$2,Auswahllisten!$A$1:$J$1,Auswahllisten!$A8:$J8) -> Platzhalter NF 7 | E30: 1 | G30: =IF(Tabelle1[[#This Row],[Note]]="","",IF(Tabelle1[[#This Row],[Note]]=5,0,VLOOKUP(Tabelle1[[#This Row],[Modul]],'ECTS-Punkte'!$A$2:$B$81,2,FALSE))) | I30: =IF(Tabelle1[[#This Row],[Note]]="",0,Tabelle1[[#This Row],[Gewicht]]*Tabelle1[[#This Row],[Note]]*Tabelle1[[#This Row],[ECTS]]) -> 0 | J30: =IF(Tabelle1[[#This Row],[Note]]="",0,Tabelle1[[#This Row],[Gewicht]]*Tabelle1[[#This Row],[ECTS]]) -> 0
A31: =_xlfn.XLOOKUP($A$2,Auswahllisten!$A$1:$J$1,Auswahllisten!$A9:$J9) -> Platzhalter NF 8 | E31: 1 | G31: =IF(Tabelle1[[#This Row],[Note]]="","",IF(Tabelle1[[#This Row],[Note]]=5,0,VLOOKUP(Tabelle1[[#This Row],[Modul]],'ECTS-Punkte'!$A$2:$B$81,2,FALSE))) | I31: =IF(Tabelle1[[#This Row],[Note]]="",0,Tabelle1[[#This Row],[Gewicht]]*Tabelle1[[#This Row],[Note]]*Tabelle1[[#This Row],[ECTS]]) -> 0 | J31: =IF(Tabelle1[[#This Row],[Note]]="",0,Tabelle1[[#This Row],[Gewicht]]*Tabelle1[[#This Row],[ECTS]]) -> 0
A32: =_xlfn.XLOOKUP($A$2,Auswahllisten!$A$1:$J$1,Auswahllisten!$A10:$J10) -> Platzhalter NF 9 | E32: 1 | G32: =IF(Tabelle1[[#This Row],[Note]]="","",IF(Tabelle1[[#This Row],[Note]]=5,0,VLOOKUP(Tabelle1[[#This Row],[Modul]],'ECTS-Punkte'!$A$2:$B$81,2,FALSE))) | I32: =IF(Tabelle1[[#This Row],[Note]]="",0,Tabelle1[[#This Row],[Gewicht]]*Tabelle1[[#This Row],[Note]]*Tabelle1[[#This Row],[ECTS]]) -> 0 | J32: =IF(Tabelle1[[#This Row],[Note]]="",0,Tabelle1[[#This Row],[Gewicht]]*Tabelle1[[#This Row],[ECTS]]) -> 0
A33: =_xlfn.XLOOKUP($A$2,Auswahllisten!$A$1:$J$1,Auswahllisten!$A11:$J11) -> Platzhalter NF 10 | E33: 1 | G33: =IF(Tabelle1[[#This Row],[Note]]="","",IF(Tabelle1[[#This Row],[Note]]=5,0,VLOOKUP(Tabelle1[[#This Row],[Modul]],'ECTS-Punkte'!$A$2:$B$81,2,FALSE))) | I33: =IF(Tabelle1[[#This Row],[Note]]="",0,Tabelle1[[#This Row],[Gewicht]]*Tabelle1[[#This Row],[Note]]*Tabelle1[[#This Row],[ECTS]]) -> 0 | J33: =IF(Tabelle1[[#This Row],[Note]]="",0,Tabelle1[[#This Row],[Gewicht]]*Tabelle1[[#This Row],[ECTS]]) -> 0
A34: Abschlussmodul | E34: 1 | G34: =IF(Tabelle1[[#This Row],[Note]]="","",IF(Tabelle1[[#This Row],[Note]]=5,0,VLOOKUP(Tabelle1[[#This Row],[Modul]],'ECTS-Punkte'!$A$2:$B$81,2,FALSE))) | I34: =IF(Tabelle1[[#This Row],[Note]]="",0,Tabelle1[[#This Row],[Gewicht]]*Tabelle1[[#This Row],[Note]]*Tabelle1[[#This Row],[ECTS]]) -> 0 | J34: =IF(Tabelle1[[#This Row],[Note]]="",0,Tabelle1[[#This Row],[Gewicht]]*Tabelle1[[#This Row],[ECTS]]) -> 0
A35: Gesamtnote | F35: =TRUNC(I35/J35,2) -> #DIV/0! | G35: =SUM(G4:G34) -> 0 | I35: =SUM(I4:I34) -> 0 | J35: =SUM(J4:J34) -> 0
A37: Wasti e.V. übernimmt keine Haftung für ggf. falsche Berechnungen!

Sheet Auswahllisten
A1: <NF wählen> | B1: Berufssprache Deutsch | C1: Deutsch | D1: Englisch | E1: Französisch | F1: Spanisch | G1: Informatik | H1: Mathematik | I1: Evangelische Religionslehre | J1: Katholische Religionslehre
A2: Platzhalter NF 1 | B2: Basismodul Sprachwissenschaft Deutsch als Fremdsprache | C2: Basismodul Fachdidaktik Deutsch | D2: Basic Module: Practical English Language | E2: Sprachpraxis I - Französisch | F2: Sprachpraxis I - Spanisch | G2: Einführung in die Informatik: Programmierung und Softwareentwicklung | H2: Lineare Algebra I | I2: Propädeutik | J2: Einführung in die Biblische Theologie
A3: Platzhalter NF 2 | B3: Basismodul Spracherwerbsforschung | C3: Basismodul Neuere Deutsche Literatur | D3: Basismodul Englische Literaturwissenschaft | E3: Basismodul Linguistik I | F3: Basismodul Linguistik I | G3: Rechnerarchitektur | H3: Lineare Algebra II | I3: Kirchengeschichte | J3: Einführung in die Methoden wissenschaftlichen Arbeitens
A4: Platzhalter NF 3 | B4: Basismodul Kulturwissenschaften | C4: Basismodul Germanistische Linguistik | D4: Basic Module: Speaking Skills English | E4: Sprachpraxis II - Französisch | F4: Basismodul Literatur- und Kulturwissenschaft I | G4: Algorithmen und Datenstrukturen | H4: Elementare Stochastik und Elementargeometrie | I4: Religionswissenschaft | J4: Einführung in die Historische Theologie I
A5: Platzhalter NF 4 | B5: Basismodul Literaturwissenschaft Deutsch als Fremdsprache | C5: Aufbaumodul Neuere Deutsche Literatur | D5: Basismodul Englische Sprachwissenschaft | E5: Basismodul Literatur- und Kulturwissenschaft I | F5: Sprachpraxis II - Spanisch | G5: Datenbanksysteme | H5: Analysis I | I5: Systematische Theologie (Dogmatik und Ethik) | J5: Grundlagen der Systematischen Theologie I - Fundamentaltheologie
A6: Platzhalter NF 5 | B6: Vertiefungsmodul Mehrsprachigkeitsforschung | C6: Platzhalter NF 1 | D6: Basic Module: Writing Skills English | E6: Sprachpraxis III - Französisch | F6: Sprachpraxis III - Spanisch | G6: Softwaretechnik | H6: Elementare Zahlentheorie und Kombinatorik | I6: Neues Testament | J6: Grundlagen der Systematischen Theologie II - Moraltheologie und Sozialethik
A7: Platzhalter NF 6 | B7: Praktikum | C7: Platzhalter NF 2 | D7: Aufbaumodul Sprachpraxis Englisch | E7: Basismodul Linguistik II (Französisch) | F7: Basismodul Linguistik II (Spanisch) | G7: Informatik VI (Wahlfach) | H7: Analysis II | I7: Platzhalter NF 1 | J7: Grundlagen der Systematischen Theologie III - Dogmatik
A8: Platzhalter NF 7 | B8: Fremd- und fachsprachliche Unterrichtspraxis aus fachdidaktischer Perspektive | C8: Platzhalter NF 3 | D8: Aufbaumodul Fachwissenschaft Englisch | E8: Sprachpraxis IV - Französisch | F8: Sprachpraxis IV - Spanisch | G8: Platzhalter NF 1 | H8: Platzhalter NF 1 | I8: Platzhalter NF 2 | J8: Einführung in die Historische Theologie II
A9: Platzhalter NF 8 | B9: Platzhalter NF 1 | C9: Platzhalter NF 4 | D9: Platzhalter NF 1 | E9: Platzhalter NF 1 | F9: Platzhalter NF 1 | G9: Platzhalter NF 2 | H9: Platzhalter NF 2 | I9: Platzhalter NF 3 | J9: Aufbau Systematische Theologie I - Fundamentaltheologie
A10: Platzhalter NF 9 | B10: Platzhalter NF 2 | C10: Platzhalter NF 5 | D10: Platzhalter NF 2 | E10: Platzhalter NF 2 | F10: Platzhalter NF 2 | G10: Platzhalter NF 3 | H10: Platzhalter NF 3 | I10: Platzhalter NF 4 | J10: Aufbau Biblische Theologie I/II
A11: Platzhalter NF 10 | B11: Platzhalter NF 3 | C11: Platzhalter NF 6 | D11: Platzhalter NF 3 | E11: Platzhalter NF 3 | F11: Platzhalter NF 3 | G11: Platzhalter NF 4 | H11: Platzhalter NF 4 | I11: Platzhalter NF 5 | J11: Aufbau Systematische Theologie II - Moraltheologie

Sheet ECTS-Punkte
A1: Modul | B1: ECTS-Punkte | C1: Notenskala
A2: Externes Rechnungswesen | B2: 6 | C2: 1
A3: Grundlagen der Mathematik | B3: 6 | C3: 1.3
A4: Human Resource Education and Management I | B4: 6 | C4: 1.7
A5: Grundlagen der Statistik | B5: 6 | C5: 2
A6: Grundlagen der Volkswirtschaftslehre I: Mikroökonomie | B6: 6 | C6: 2.3
A7: Internes Rechnungswesen | B7: 6 | C7: 2.7
A8: Marketing-Management | B8: 6 | C8: 3
A9: Human Resource Education and Management II | B9: 6 | C9: 3.3
A10: Recht | B10: 6 | C10: 3.7
A11: Grundlagen der Volkswirtschaftslehre II: Makroökonomie | B11: 6 | C11: 4
A12: Investition und Finanzierung | B12: 6 | C12: 5
A13: Wirtschaftsinformatik | B13: 6
A14: Introduction to Econometrics | B14: 6
A15: Kompetenzen der Wirtschaftspädagogik | B15: 6
A16: Business Modelling | B16: 12
A17: Digitalisierung und Nachhaltigkeit im beruflichen Kontext | B17: 6
A18: Human Resource Education and Management III | B18: 6
A19: Organization and Strategy | B19: 6
A20: Wirtschaftspädagogische Forschung (Hauptseminar) | B20: 6
A21: Perspektiven der Wirtschaftspädagogik | B21: 6
A22: Basismodul Sprachwissenschaft Deutsch als Fremdsprache | B22: 6
A23: Vertiefungsmodul Mehrsprachigkeitsforschung | B23: 6
A24: Basismodul Spracherwerbsforschung | B24: 6
... A81: Abschlussmodul | B81: 18
